BEGIN:VCALENDAR
VERSION:2.0
PRODID:-//Andrew Holecek - ECPv6.15.20//NONSGML v1.0//EN
CALSCALE:GREGORIAN
METHOD:PUBLISH
X-WR-CALNAME:Andrew Holecek
X-ORIGINAL-URL:https://www.andrewholecek.com
X-WR-CALDESC:Events for Andrew Holecek
REFRESH-INTERVAL;VALUE=DURATION:PT1H
X-Robots-Tag:noindex
X-PUBLISHED-TTL:PT1H
BEGIN:VTIMEZONE
TZID:America/Denver
BEGIN:DAYLIGHT
TZOFFSETFROM:-0700
TZOFFSETTO:-0600
TZNAME:MDT
DTSTART:20230312T090000
END:DAYLIGHT
BEGIN:STANDARD
TZOFFSETFROM:-0600
TZOFFSETTO:-0700
TZNAME:MST
DTSTART:20231105T080000
END:STANDARD
BEGIN:DAYLIGHT
TZOFFSETFROM:-0700
TZOFFSETTO:-0600
TZNAME:MDT
DTSTART:20240310T090000
END:DAYLIGHT
BEGIN:STANDARD
TZOFFSETFROM:-0600
TZOFFSETTO:-0700
TZNAME:MST
DTSTART:20241103T080000
END:STANDARD
BEGIN:DAYLIGHT
TZOFFSETFROM:-0700
TZOFFSETTO:-0600
TZNAME:MDT
DTSTART:20250309T090000
END:DAYLIGHT
BEGIN:STANDARD
TZOFFSETFROM:-0600
TZOFFSETTO:-0700
TZNAME:MST
DTSTART:20251102T080000
END:STANDARD
END:VTIMEZONE
BEGIN:VEVENT
DTSTART;VALUE=DATE:20241004
DTEND;VALUE=DATE:20241011
DTSTAMP:20260421T071958
CREATED:20231213T014216Z
LAST-MODIFIED:20240702T221448Z
UID:10000250-1728000000-1728604799@www.andrewholecek.com
SUMMARY:Lucid Dreaming: The Magic of Nocturnal Meditation - Mandali Retreat Center - Quarna Sopra\, Italy
DESCRIPTION:Lucid Dreaming: The Magic of Nocturnal Meditation\nOctober 4 – 10\, 2024 – Mandali Retreat Center – Quarna Sopra\, Italy\nLucid dreaming opens the door to a vastly expanded understanding of our minds\, our perception of reality\, and human potential altogether. Lucidity is a code word for awareness\, and heightened awareness benefits everything you do. Lucid dreaming leads to lucid living. Learn the extraordinary mental\, physical\, and spiritual benefits of all five nocturnal meditations (which include liminal dreaming\, yoga nidra\, and bardo yoga). How can lucid dreaming help with sleep disorders\, like insomnia\, and facilitate psychological and physical healing? Neuroscientists suggest that lucid dreaming could be the pedagogy of the future\, and represents a unique form of “night school.” Blending modern Western science with ancient Eastern wisdom\, this retreat offers an integral approach that shows you how to have lucid dreams\, and what to do with them through the nine stages of dream yoga. If we consciously explore our night lives with the nocturnal meditations\, we can learn how to discard bad habits\, generate good ones\, and discover how we co-create our reality. This allows us to create the dream we want to live. \nTopics include: \n\nLearn the science and medicine of sleep\, bridging the gap between science and the profound wisdom of ancient practices.\nExplore into the untapped potential of your unconscious mind\, unraveling its mysteries for personal growth.\nLearn holistic sleep hygiene practices\, integrating both Eastern and Western perspectives for optimal well-being.\nDiscover how dreams can serve as a powerful tool for accelerated learning and personal development.\nNavigate through the barriers of your mind\, identifying and overcoming limitations.\nTurn nightmares into sources of empowerment\, banishing fear and embracing the transformative power of the dark.\nExplore a rich tapestry of techniques from both Western and Eastern traditions to achieve lucidity.\nDelve into the profound connection of how dreams can help you prepare for death.\nHarness the power of lucid dreaming to navigate conflicts and regulate emotions in your waking life.\nOvercome challenges on your lucid dreaming journey with practical insights and solutions.\nExplore the diverse spectrum of dreams and the world of dream interpretation.\nUnderstand the integral role of body work and inner yogas in enhancing your dream experiences.\nApply the lucidity principle to consciously shape and enhance your waking life experiences.\nDelve into the profound wisdom of dreams\, unraveling the mysteries of the mind and reality itself.\n\nWelcome to the magical realm where lucid living is not just a possibility but a tangible reality waiting to be explored. \nAndrew had a chance to sit down with Fidan from Mandali to talk more about what you can expect from this Lucid Dreaming retreat:\n			\n				\n				\n				\n				\n				\n				\n			\n				\n				\n				\n				\n				This retreat is hosted and administered by the Mandali Retreat Center\, Quarna Sopra\, Italy.  Because of this\, we are not able to offer any Night Club member discount to this event. Any inquiries about this program should be directed to the Mandali Retreat Center.  info@mandali.org  +39 0323 826439 \n			\n				Program Details and Registration
URL:https://www.andrewholecek.com/event/lucid-dreaming-and-dream-yoga-the-magic-of-nocturnal-meditation-mandali-retreat-center-quarna-sopra-italy/
LOCATION:Mandali Retreat Center\, Via Belvedere 2\, Quarna Sopra (VB)\, Verbano-Cusio-Ossola\, 28898\, Italy
CATEGORIES:Lucid Dreaming/Dream Yoga,Retreat
ATTACH;FMTTYPE=image/jpeg:https://www.andrewholecek.com/wp-content/uploads/2023/12/Mandali.jpg
ORGANIZER;CN="Mandali Retreat Center":MAILTO:info@mandali.org
GEO:45.872467212751;8.3784382745022
X-APPLE-STRUCTURED-LOCATION;VALUE=URI;X-ADDRESS=Mandali Retreat Center Via Belvedere 2 Quarna Sopra (VB) Verbano-Cusio-Ossola 28898 Italy;X-APPLE-RADIUS=500;X-TITLE=Via Belvedere 2:geo:8.3784382745022,45.872467212751
END:VEVENT
END:VCALENDAR